BEGIN:VCALENDAR
VERSION:2.0
PRODID:-//Plone.org//NONSGML plone.app.event//EN
X-WR-TIMEZONE:Europe/Vienna
BEGIN:VEVENT
SUMMARY:Pohod iz Potrne v Cankovo - in nazaj
DTSTART;TZID=Europe/Berlin;VALUE=DATE-TIME:20260516T100000
DTEND;TZID=Europe/Berlin;VALUE=DATE-TIME:20260516T160000
DTSTAMP;VALUE=DATE-TIME:20260420T144720Z
UID:9cf0ee75d1dd493fbc7566bec91322a3@pavelhaus.programmatic.at
CONTACT:Društvo Člen 7 za avstrijsko Štajersko | Pavlova hiša\, office
 @pavelhaus.at\, http:\\\\www.pavelhaus.at\, +43 699 11591014
CREATED;VALUE=DATE-TIME:20260126T121706Z
GEO:46.688122;16.00452
LAST-MODIFIED;VALUE=DATE-TIME:20260306T095321Z
LOCATION;ALTREP="https://pavelhaus.programmatic.at/sl/lib/adressbuch/pavlo
 va-hisa":Pavlova hiša\, Laafeld/Potrna 30\, 8490 Bad Radkersburg/Radgona
URL:https://pavelhaus.programmatic.at/sl/aktualno/prireditve/pohod-iz-potr
 ne-v-cankovo-in-nazaj
END:VEVENT
BEGIN:VTIMEZONE
TZID:Europe/Berlin
X-LIC-LOCATION:Europe/Berlin
BEGIN:DAYLIGHT
DTSTART;VALUE=DATE-TIME:20260329T030000
TZNAME:CEST
TZOFFSETFROM:+0100
TZOFFSETTO:+0200
END:DAYLIGHT
END:VTIMEZONE
END:VCALENDAR
