BEGIN:VCALENDAR
VERSION:2.0
PRODID:-//Plone.org//NONSGML plone.app.event//EN
X-WR-TIMEZONE:Europe/Vienna
BEGIN:VEVENT
SUMMARY:Slowenisch lernen – für Anfänger & Fortgeschrittene. Weiter ge
 ht’s!
DTSTART;TZID=Europe/Berlin;VALUE=DATE-TIME:20260226T163000
DTEND;TZID=Europe/Berlin;VALUE=DATE-TIME:20260611T180000
DTSTAMP;VALUE=DATE-TIME:20260420T145151Z
UID:f6191c7d6b9f420b9dc470d9a93c773d@pavelhaus.programmatic.at
CONTACT:Artikel-VII-Kulturverein für Steiermark | Pavelhaus\, office@pave
 lhaus.at\, http:\\\\www.pavelhaus.at\, +43 699 11591014
CREATED;VALUE=DATE-TIME:20260126T091632Z
GEO:46.68812;16.00452
LAST-MODIFIED;VALUE=DATE-TIME:20260224T152900Z
LOCATION;ALTREP="https://pavelhaus.programmatic.at/lib/adressbuch/pavelhau
 s":Pavelhaus\, Laafeld 30\, 8490 Bad Radkersburg\, Österreich
URL:https://pavelhaus.programmatic.at/wer-was/slowenisch-in-der-steiermark
 /sprachangebote-fuer-erwachsene/slowenisch-lernen-fuer-anfaenger-fortgesch
 rittene-weiter-geht2019s
END:VEVENT
BEGIN:VTIMEZONE
TZID:Europe/Berlin
X-LIC-LOCATION:Europe/Berlin
BEGIN:STANDARD
DTSTART;VALUE=DATE-TIME:20251026T020000
TZNAME:CET
TZOFFSETFROM:+0200
TZOFFSETTO:+0100
END:STANDARD
BEGIN:DAYLIGHT
DTSTART;VALUE=DATE-TIME:20260329T030000
TZNAME:CEST
TZOFFSETFROM:+0100
TZOFFSETTO:+0200
END:DAYLIGHT
END:VTIMEZONE
END:VCALENDAR
